BEGIN:VCALENDAR
VERSION:2.0
PRODID:-//ConVerve GmbH//B2BMatch//EN
METHOD:PUBLISH
BEGIN:VEVENT
DTSTART:20260519T060000Z
DTEND:20260520T200000Z
SUMMARY:Norwegian Workshop Spain 2026
LOCATION:Hotel Palacio de los Duques
DESCRIPTION:
UID:0000001
DTSTAMP:20180215T145139Z
END:VEVENT
END:VCALENDAR
